BEGIN:VCALENDAR
VERSION:2.0
PRODID:-//ExhibitionMatches.com//NONSGML v1.0//EN
BEGIN:VEVENT
UID=6B08D63C-CAED-4D28-A6A18A8C245F9A4F
DTSTAMP=20260424T001224Z
DTSTART;VALUE=DATE:20260711
DTEND;VALUE=DATE:20260712
SUMMARY:Backyard Brawl #3
LOCATION:Spokane Wrestling Warehouse, 3928 E Olympic Ave, Spokane, WA, 99217
DESCRIPTION:View full event details: https://wrestlingtournaments.org/view.cfm?ID=106966
Contact: Mike Pursel spokanewrestling@gmail.com
URL;VALUE=URI:https://wrestlingtournaments.org/view.cfm?ID=106966
END:VEVENT
END:VCALENDAR