BEGIN:VCALENDAR
VERSION:2.0
PRODID:-//ExhibitionMatches.com//NONSGML v1.0//EN
BEGIN:VEVENT
UID=147CD355-F664-2E6D-EA1792178D7CAD88
DTSTAMP=20260422T075222Z
DTSTART;VALUE=DATE:20260815
DTEND;VALUE=DATE:20260817
SUMMARY:WSWA Sundown Throwdown
LOCATION:Medical Lake High School, 200 east barker st, medical lake, WA, 99022
DESCRIPTION:View full event details: https://wrestlingtournaments.org/view.cfm?ID=106969
Contact: Garrett Raulston graulston@mlsd.org
URL;VALUE=URI:https://wrestlingtournaments.org/view.cfm?ID=106969
END:VEVENT
END:VCALENDAR