BEGIN:VCALENDAR
VERSION:2.0
PRODID:-//ExhibitionMatches.com//NONSGML v1.0//EN
BEGIN:VEVENT
UID=1466E324-FED3-EC39-78CD3E9324917772
DTSTAMP=20260422T074959Z
DTSTART;VALUE=DATE:20260815
DTEND;VALUE=DATE:20260816
SUMMARY:WSWA Beach Throwdown
LOCATION:Medical Lake Waterfront Park, 1300 S Leferve St., Medical Lake, WA, 99022
DESCRIPTION:View full event details: https://wrestlingtournaments.org/view.cfm?ID=106970
Contact: Garrett Raulston graulston@mlsd.org
URL;VALUE=URI:https://wrestlingtournaments.org/view.cfm?ID=106970
END:VEVENT
END:VCALENDAR