BEGIN:VCALENDAR
VERSION:2.0
PRODID:-//ExhibitionMatches.com//NONSGML v1.0//EN
BEGIN:VEVENT
UID=6B2D184A-DE5D-5C05-D71AF8A3F9110B83
DTSTAMP=20260424T001621Z
DTSTART;VALUE=DATE:20260516
DTEND;VALUE=DATE:20260517
SUMMARY:Backyard Brawl #1
LOCATION:Spokane Wrestling Warehouse, 3928 E Olympic Ave, Spokane, WA, 99217
DESCRIPTION:View full event details: https://wrestlingtournaments.org/view.cfm?ID=107005
Contact: Mike Pursel spokanewrestling@gmail.com
URL;VALUE=URI:https://wrestlingtournaments.org/view.cfm?ID=107005
END:VEVENT
END:VCALENDAR