BEGIN:VCALENDAR
VERSION:2.0
PRODID:-//ExhibitionMatches.com//NONSGML v1.0//EN
BEGIN:VEVENT
UID=6B1FDFA3-B841-CFB6-7668A57199638FD7
DTSTAMP=20260424T001455Z
DTSTART;VALUE=DATE:20260613
DTEND;VALUE=DATE:20260614
SUMMARY:Backyard Brawl #2
LOCATION:Spokane Wrestling Warehouse, 3928 E Olympic Ave, Spokane, WA, 99217
DESCRIPTION:View full event details: https://wrestlingtournaments.org/view.cfm?ID=107050
Contact: Mike Pursel spokanewrestling@gmail.com
URL;VALUE=URI:https://wrestlingtournaments.org/view.cfm?ID=107050
END:VEVENT
END:VCALENDAR