BEGIN:VCALENDAR
VERSION:2.0
PRODID:-//ExhibitionMatches.com//NONSGML v1.0//EN
BEGIN:VEVENT
UID=148C70EE-E16A-59BF-BB509B0287EA4DF2
DTSTAMP=20260422T075405Z
DTSTART;VALUE=DATE:20260731
DTEND;VALUE=DATE:20260803
SUMMARY:WSWA Summer Beach Brawl 4 Styles Throw Down
LOCATION:Ilwaco High school, 404 school road, Ilwaco, WA, 98624
DESCRIPTION:View full event details: https://wrestlingtournaments.org/view.cfm?ID=107103
Contact: Jerry Matzen matzen.jerry@yahoo.com
URL;VALUE=URI:https://wrestlingtournaments.org/view.cfm?ID=107103
END:VEVENT
END:VCALENDAR