BEGIN:VCALENDAR
VERSION:2.0
PRODID:-//ExhibitionMatches.com//NONSGML v1.0//EN
BEGIN:VEVENT
UID=142AC778-9E95-861F-20F5A3C9C3FE4F00
DTSTAMP=20260422T074325Z
DTSTART;VALUE=DATE:20260808
DTEND;VALUE=DATE:20260809
SUMMARY:Backyard Brawl #4
LOCATION:Spokane Wrestling Warehouse, 3928 E Olympic Ave, Spokane, WA, 99217
DESCRIPTION:View full event details: https://wrestlingtournaments.org/view.cfm?ID=107114
Contact: Mike Pursel spokanewrestling@gmail.com
URL;VALUE=URI:https://wrestlingtournaments.org/view.cfm?ID=107114
END:VEVENT
END:VCALENDAR